BEGIN:VCALENDAR
VERSION:2.0
PRODID:-//Performer’s Edge Dance Center - ECPv6.15.18//NONSGML v1.0//EN
CALSCALE:GREGORIAN
METHOD:PUBLISH
X-ORIGINAL-URL:https://performersedgedance.com
X-WR-CALDESC:Events for Performer’s Edge Dance Center
REFRESH-INTERVAL;VALUE=DURATION:PT1H
X-Robots-Tag:noindex
X-PUBLISHED-TTL:PT1H
BEGIN:VTIMEZONE
TZID:UTC
BEGIN:STANDARD
TZOFFSETFROM:+0000
TZOFFSETTO:+0000
TZNAME:UTC
DTSTART:20220101T000000
END:STANDARD
END:VTIMEZONE
BEGIN:VEVENT
DTSTART;TZID=UTC:20250608T180000
DTEND;TZID=UTC:20250608T210000
DTSTAMP:20260422T191608
CREATED:20250424T145510Z
LAST-MODIFIED:20250424T145510Z
UID:10000015-1749405600-1749416400@performersedgedance.com
SUMMARY:PEDC 2025 Recital Show D
DESCRIPTION:
URL:https://performersedgedance.com/event/pedc-2025-recital-show-d/
LOCATION:R.P. Funding Center (Youkey Theatre)\, 701 W Lime St.\, Lakeland\, FL\, 33815\, United States
ORGANIZER;CN="Performer's Edge Dance Center":MAILTO:info@performersedgedance.com
END:VEVENT
BEGIN:VEVENT
DTSTART;TZID=UTC:20250608T120000
DTEND;TZID=UTC:20250608T150000
DTSTAMP:20260422T191608
CREATED:20250424T145536Z
LAST-MODIFIED:20250424T145536Z
UID:10000016-1749384000-1749394800@performersedgedance.com
SUMMARY:PEDC 2025 Recital Show C
DESCRIPTION:
URL:https://performersedgedance.com/event/pedc-2025-recital-show-c/
LOCATION:R.P. Funding Center (Youkey Theatre)\, 701 W Lime St.\, Lakeland\, FL\, 33815\, United States
ORGANIZER;CN="Performer's Edge Dance Center":MAILTO:info@performersedgedance.com
END:VEVENT
BEGIN:VEVENT
DTSTART;TZID=UTC:20250607T180000
DTEND;TZID=UTC:20250607T210000
DTSTAMP:20260422T191608
CREATED:20250424T145443Z
LAST-MODIFIED:20250424T145443Z
UID:10000014-1749319200-1749330000@performersedgedance.com
SUMMARY:PEDC 2025 Recital Show B
DESCRIPTION:
URL:https://performersedgedance.com/event/pedc-2025-recital-show-b/
LOCATION:R.P. Funding Center (Youkey Theatre)\, 701 W Lime St.\, Lakeland\, FL\, 33815\, United States
ORGANIZER;CN="Performer's Edge Dance Center":MAILTO:info@performersedgedance.com
END:VEVENT
BEGIN:VEVENT
DTSTART;TZID=UTC:20250607T120000
DTEND;TZID=UTC:20250607T150000
DTSTAMP:20260422T191608
CREATED:20250424T145209Z
LAST-MODIFIED:20250424T145209Z
UID:10000013-1749297600-1749308400@performersedgedance.com
SUMMARY:PEDC 2025 Recital Show A
DESCRIPTION:
URL:https://performersedgedance.com/event/pedc-2025-recital-show-a/
LOCATION:R.P. Funding Center (Youkey Theatre)\, 701 W Lime St.\, Lakeland\, FL\, 33815\, United States
ORGANIZER;CN="Performer's Edge Dance Center":MAILTO:info@performersedgedance.com
END:VEVENT
BEGIN:VEVENT
DTSTART;TZID=UTC:20231028T180000
DTEND;TZID=UTC:20231028T210000
DTSTAMP:20260422T191608
CREATED:20231021T180504Z
LAST-MODIFIED:20231021T180933Z
UID:10000005-1698516000-1698526800@performersedgedance.com
SUMMARY:PEDC BOO BASH
DESCRIPTION:
URL:https://performersedgedance.com/event/pedc-boo-bash/
LOCATION:Performer’s Edge Dance Center\, 195 Ashbourne Way\, Davenport\, 33837\, United States
ATTACH;FMTTYPE=image/jpeg:https://performersedgedance.com/wp-content/uploads/2023/09/Boobash-scaled.jpg
ORGANIZER;CN="Performer's Edge Dance Center":MAILTO:info@performersedgedance.com
END:VEVENT
END:VCALENDAR