BEGIN:VCALENDAR
VERSION:2.0
PRODID:-//Performer’s Edge Dance Center - ECPv6.15.18//NONSGML v1.0//EN
CALSCALE:GREGORIAN
METHOD:PUBLISH
X-ORIGINAL-URL:https://performersedgedance.com
X-WR-CALDESC:Events for Performer’s Edge Dance Center
REFRESH-INTERVAL;VALUE=DURATION:PT1H
X-Robots-Tag:noindex
X-PUBLISHED-TTL:PT1H
BEGIN:VTIMEZONE
TZID:UTC
BEGIN:STANDARD
TZOFFSETFROM:+0000
TZOFFSETTO:+0000
TZNAME:UTC
DTSTART:20220101T000000
END:STANDARD
END:VTIMEZONE
BEGIN:VEVENT
DTSTART;TZID=UTC:20231028T180000
DTEND;TZID=UTC:20231028T210000
DTSTAMP:20260422T215132
CREATED:20231021T180504Z
LAST-MODIFIED:20231021T180933Z
UID:10000005-1698516000-1698526800@performersedgedance.com
SUMMARY:PEDC BOO BASH
DESCRIPTION:
URL:https://performersedgedance.com/event/pedc-boo-bash/
LOCATION:Performer’s Edge Dance Center\, 195 Ashbourne Way\, Davenport\, 33837\, United States
ATTACH;FMTTYPE=image/jpeg:https://performersedgedance.com/wp-content/uploads/2023/09/Boobash-scaled.jpg
ORGANIZER;CN="Performer's Edge Dance Center":MAILTO:info@performersedgedance.com
END:VEVENT
END:VCALENDAR